BEGIN:VCALENDAR
VERSION:2.0
PRODID:-//Clube de Carros Antigos de Mogi das Cruzes - ECPv6.15.20//NONSGML v1.0//EN
CALSCALE:GREGORIAN
METHOD:PUBLISH
X-WR-CALNAME:Clube de Carros Antigos de Mogi das Cruzes
X-ORIGINAL-URL:https://ccamogi.com.br
X-WR-CALDESC:Eventos para Clube de Carros Antigos de Mogi das Cruzes
REFRESH-INTERVAL;VALUE=DURATION:PT1H
X-Robots-Tag:noindex
X-PUBLISHED-TTL:PT1H
BEGIN:VTIMEZONE
TZID:America/Sao_Paulo
BEGIN:STANDARD
TZOFFSETFROM:-0300
TZOFFSETTO:-0300
TZNAME:-03
DTSTART:20250101T000000
END:STANDARD
END:VTIMEZONE
BEGIN:VEVENT
DTSTART;TZID=America/Sao_Paulo:20260426T090000
DTEND;TZID=America/Sao_Paulo:20260426T160000
DTSTAMP:20260423T165145
CREATED:20260301T104808Z
LAST-MODIFIED:20260303T225154Z
UID:436-1777194000-1777219200@ccamogi.com.br
SUMMARY:Memórias Sobre Rodas | Sabbia Club
DESCRIPTION:
URL:https://ccamogi.com.br/evento/memorias-sobre-rodas-sabbia-club/
LOCATION:Sabbia Club\, Rua D'Ajuda\, 480\, Guararema\, São Paulo\, 08900-000\, Brazil
END:VEVENT
END:VCALENDAR